BEGIN:VCALENDAR
VERSION:2.0
PRODID:-//Delante - ECPv6.15.14//NONSGML v1.0//EN
CALSCALE:GREGORIAN
METHOD:PUBLISH
X-ORIGINAL-URL:https://coopdelante.it
X-WR-CALDESC:Eventi per Delante
REFRESH-INTERVAL;VALUE=DURATION:PT1H
X-Robots-Tag:noindex
X-PUBLISHED-TTL:PT1H
BEGIN:VTIMEZONE
TZID:Europe/Rome
BEGIN:DAYLIGHT
TZOFFSETFROM:+0100
TZOFFSETTO:+0200
TZNAME:CEST
DTSTART:20230326T010000
END:DAYLIGHT
BEGIN:STANDARD
TZOFFSETFROM:+0200
TZOFFSETTO:+0100
TZNAME:CET
DTSTART:20231029T010000
END:STANDARD
BEGIN:DAYLIGHT
TZOFFSETFROM:+0100
TZOFFSETTO:+0200
TZNAME:CEST
DTSTART:20240331T010000
END:DAYLIGHT
BEGIN:STANDARD
TZOFFSETFROM:+0200
TZOFFSETTO:+0100
TZNAME:CET
DTSTART:20241027T010000
END:STANDARD
BEGIN:DAYLIGHT
TZOFFSETFROM:+0100
TZOFFSETTO:+0200
TZNAME:CEST
DTSTART:20250330T010000
END:DAYLIGHT
BEGIN:STANDARD
TZOFFSETFROM:+0200
TZOFFSETTO:+0100
TZNAME:CET
DTSTART:20251026T010000
END:STANDARD
END:VTIMEZONE
BEGIN:VEVENT
DTSTART;TZID=Europe/Rome:20240725T210000
DTEND;TZID=Europe/Rome:20240725T233000
DTSTAMP:20260424T011923
CREATED:20240702T155500Z
LAST-MODIFIED:20240702T160055Z
UID:21339-1721941200-1721950200@coopdelante.it
SUMMARY:Festival delle Ville Vesuviane - IVANA D'ADDONA
DESCRIPTION:IVANA D’ADDONA\n\n\n\n\nASTARTE\nconcerto per piano solo \n\n\n\n\n\nIvana D’Addona\, cresciuta all’ombra del Vesuvio\, è un’anima in continua partenza. L’artista percorre le strade e i sentimenti per conoscersi\, scavando la sua umanità alla ricerca di nuovi confini mentali e sensitivi\, nella continua esplorazione di quel sé che genera emozioni ed impensabili stupori. Figlia di questo luogo dal sapore antico\, terra fertile per lo sviluppo della sua creatività\, è una donna che rappresenta nel mondo la difesa dei diritti umani e che sostiene con impegno sia associazioni umanitarie che di ricerca. \n\n\n\n\n\n\n  \nINTERO: € 5\,00\nRIDOTTO UNDER 25 E OVER 65: € 3\,00\nBiglietteria fisica la sera dello spettacolo dalle ore 18:00
URL:https://coopdelante.it/evento/festival-delle-ville-vesuviane-ivana-daddona/
LOCATION:Maschi Angioino (NA) – Società Napoletana di Storia Patria\, Maschio Angioino\, Napoli\, Italia
ATTACH;FMTTYPE=image/webp:https://coopdelante.it/wp-content/uploads/2024/07/grand-piano-indoors-theater-place-scaled-qq2pzfaw27t2o9pxjhca2a3cpzmt3el3syx74zeg8w.jpg.webp
END:VEVENT
END:VCALENDAR