BEGIN:VCALENDAR
VERSION:2.0
PRODID:-//Delante - ECPv6.15.14//NONSGML v1.0//EN
CALSCALE:GREGORIAN
METHOD:PUBLISH
X-ORIGINAL-URL:https://coopdelante.it
X-WR-CALDESC:Eventi per Delante
REFRESH-INTERVAL;VALUE=DURATION:PT1H
X-Robots-Tag:noindex
X-PUBLISHED-TTL:PT1H
BEGIN:VTIMEZONE
TZID:Europe/Rome
BEGIN:DAYLIGHT
TZOFFSETFROM:+0100
TZOFFSETTO:+0200
TZNAME:CEST
DTSTART:20230326T010000
END:DAYLIGHT
BEGIN:STANDARD
TZOFFSETFROM:+0200
TZOFFSETTO:+0100
TZNAME:CET
DTSTART:20231029T010000
END:STANDARD
BEGIN:DAYLIGHT
TZOFFSETFROM:+0100
TZOFFSETTO:+0200
TZNAME:CEST
DTSTART:20240331T010000
END:DAYLIGHT
BEGIN:STANDARD
TZOFFSETFROM:+0200
TZOFFSETTO:+0100
TZNAME:CET
DTSTART:20241027T010000
END:STANDARD
BEGIN:DAYLIGHT
TZOFFSETFROM:+0100
TZOFFSETTO:+0200
TZNAME:CEST
DTSTART:20250330T010000
END:DAYLIGHT
BEGIN:STANDARD
TZOFFSETFROM:+0200
TZOFFSETTO:+0100
TZNAME:CET
DTSTART:20251026T010000
END:STANDARD
END:VTIMEZONE
BEGIN:VEVENT
DTSTART;TZID=Europe/Rome:20240726T193000
DTEND;TZID=Europe/Rome:20240726T233000
DTSTAMP:20260423T215949
CREATED:20240702T155917Z
LAST-MODIFIED:20240702T160004Z
UID:21345-1722022200-1722036600@coopdelante.it
SUMMARY:Festival delle Ville Vesuviane - SALOMÈ
DESCRIPTION:SALOMÈ\n\n\n\n\nda Oscar Wilde\nadattamento e regia Riccardo Citro \ncon Francesca Ciardiello\, Rosario D’Angelo\, Bruno Masullo\, Antonio Vitale\, Maria Teresa Iannone\, Christian Migliore \nCORTI DI TEATRO AL TRAMONTO \n\n\n\n\n\n\n\n\n\n\n\n\nÈ sera\, nel palazzo di Erode\, e la luna risplende. Una luna pallida e misteriosa che rimescola gli animi di tutti. Salomè provoca gli sguardi e ne vuole essere l’unico oggetto. Vuole guardare ed essere guardata. Spinge la sua curiosità\, la sua voglia\, ad imperativo assoluto. Bello in una maniera affilata e agghiacciante\, scritto nel 1891 e rappresentato a causa della censura appena nel 1931\, Salomè di Oscar Wilde ripropone il noto mito con la raffinata eleganza nera del decadentismo. Scritto in lingua francese appositamente per l’attrice Sarah Bernhardt\, la quale però non interpretò mai il personaggio sulla scena. \n\n\n\n\n\n\nINTERO: € 5\,00\nRIDOTTO UNDER 25 E OVER 65: € 3\,00\nBiglietteria fisica la sera dello spettacolo dalle ore 18:00
URL:https://coopdelante.it/evento/festival-delle-ville-vesuviane-salome/
LOCATION:Maschi Angioino (NA) – Società Napoletana di Storia Patria\, Maschio Angioino\, Napoli\, Italia
ATTACH;FMTTYPE=image/webp:https://coopdelante.it/wp-content/uploads/2024/07/salome-qq6aiurgu90teupmkalec2tmaoqpbrjidgr4a6aho0.jpg.webp
END:VEVENT
END:VCALENDAR