BEGIN:VCALENDAR
VERSION:2.0
PRODID:-//Delante - ECPv6.15.14//NONSGML v1.0//EN
CALSCALE:GREGORIAN
METHOD:PUBLISH
X-ORIGINAL-URL:https://coopdelante.it
X-WR-CALDESC:Eventi per Delante
REFRESH-INTERVAL;VALUE=DURATION:PT1H
X-Robots-Tag:noindex
X-PUBLISHED-TTL:PT1H
BEGIN:VTIMEZONE
TZID:UTC
BEGIN:STANDARD
TZOFFSETFROM:+0000
TZOFFSETTO:+0000
TZNAME:UTC
DTSTART:20220101T000000
END:STANDARD
END:VTIMEZONE
BEGIN:VTIMEZONE
TZID:Europe/Rome
BEGIN:DAYLIGHT
TZOFFSETFROM:+0100
TZOFFSETTO:+0200
TZNAME:CEST
DTSTART:20220327T010000
END:DAYLIGHT
BEGIN:STANDARD
TZOFFSETFROM:+0200
TZOFFSETTO:+0100
TZNAME:CET
DTSTART:20221030T010000
END:STANDARD
BEGIN:DAYLIGHT
TZOFFSETFROM:+0100
TZOFFSETTO:+0200
TZNAME:CEST
DTSTART:20230326T010000
END:DAYLIGHT
BEGIN:STANDARD
TZOFFSETFROM:+0200
TZOFFSETTO:+0100
TZNAME:CET
DTSTART:20231029T010000
END:STANDARD
BEGIN:DAYLIGHT
TZOFFSETFROM:+0100
TZOFFSETTO:+0200
TZNAME:CEST
DTSTART:20240331T010000
END:DAYLIGHT
BEGIN:STANDARD
TZOFFSETFROM:+0200
TZOFFSETTO:+0100
TZNAME:CET
DTSTART:20241027T010000
END:STANDARD
END:VTIMEZONE
BEGIN:VEVENT
DTSTART;TZID=UTC:20231013T190000
DTEND;TZID=UTC:20231013T230000
DTSTAMP:20260423T145611
CREATED:20230627T124825Z
LAST-MODIFIED:20240517T141440Z
UID:18161-1697223600-1697238000@coopdelante.it
SUMMARY:L’esilio dell’ultimo re Borbone ed il Brigantaggio tra guerra contadina e gattopardi
DESCRIPTION:Oggi\, venerdì 13 ottobre alle ore 19\, intrattenimento colto sul tema del “brigantaggio posto-unitario” con due ospiti non di circostanza\, Angela Rosauro e Gigi Di Fiore\, e la performance teatrale dei “BrigantInCanto”. La degustazione di prodotti tipici dell’epoca borbonica completerà la serata nella prestigiosa sede del MAV di Ercolano.\nCon la 1°Rassegna “MAURO MUSCI” di Cultura Legittimista Meridionale nella Storia e nelle Arti\,\nci proponiamo di diffondere la conoscenza della storia e della cultura del territorio vesuviano\, e nel contempo di valorizzare ed accreditare il toponimo “Musci” correlato alla prestigiosa famiglia che dette i natali allo storico-letterato Mauro Musci.\n 
URL:https://coopdelante.it/evento/borboni_e_brigantaggio/
LOCATION:MUSEO MAV\, ERCOLANO\, Italia
CATEGORIES:Seminari Tematici
ATTACH;FMTTYPE=image/jpeg:https://coopdelante.it/wp-content/uploads/2022/06/385880781_122126844152030001_1884023536343141311_n.jpg
ORGANIZER;CN="DELANTE":MAILTO:delante@coopdelante.it
END:VEVENT
BEGIN:VEVENT
DTSTART;VALUE=DATE:20231027
DTEND;VALUE=DATE:20231028
DTSTAMP:20260423T145611
CREATED:20230901T204136Z
LAST-MODIFIED:20240517T141424Z
UID:20321-1698364800-1698451199@coopdelante.it
SUMMARY:Il cinema Italiano e il Risorgimento
DESCRIPTION:Le vicende che hanno caratterizzato il processo di unificazione dell’Italia e la fine del Regno delle Due Sicilie e della dinastia Borbone\, hanno ispirato numerose pagine della letteratura italiana ed internazionale\, nonchè produzioni cinematografiche e teatrali. Venerdì 27 ottobre nella raffinata biblioteca di Villa Bruno a San Giorgio a Cremano ne parleremo con il prof. Pasquale Iaccio docente di Storia del Cinema nell’Ateneo Salernitano che ha collaborato con la Cineteca Nazionale al restauro del film “Bronte – Cronaca di un massacro che i libri di storia non hanno raccontato” che sarà proiettato subito dopo la presentazione del professore Iaccio.\nCon la 1°Rassegna “MAURO MUSCI” di Cultura Legittimista Meridionale nella Storia e nelle Arti\, ci proponiamo di diffondere la conoscenza della storia e della cultura del territorio vesuviano\, e nel contempo di valorizzare ed accreditare il toponimo “Musci” correlato alla prestigiosa famiglia che dette i natali allo storico-letterato Mauro Musci.
URL:https://coopdelante.it/evento/il-cinema-italiano-e-il-risorgimento/
LOCATION:VILLA BRUNO\, SAN GIORGIO A CREMANO\, Italia
CATEGORIES:Seminari Tematici
ATTACH;FMTTYPE=image/jpeg:https://coopdelante.it/wp-content/uploads/2024/01/395389589_122131473506030001_6338934738381435049_n.jpg
ORGANIZER;CN="DELANTE":MAILTO:delante@coopdelante.it
END:VEVENT
END:VCALENDAR