BEGIN:VCALENDAR
VERSION:2.0
PRODID:-//Delante - ECPv6.15.14//NONSGML v1.0//EN
CALSCALE:GREGORIAN
METHOD:PUBLISH
X-ORIGINAL-URL:https://coopdelante.it
X-WR-CALDESC:Eventi per Delante
REFRESH-INTERVAL;VALUE=DURATION:PT1H
X-Robots-Tag:noindex
X-PUBLISHED-TTL:PT1H
BEGIN:VTIMEZONE
TZID:Europe/Rome
BEGIN:DAYLIGHT
TZOFFSETFROM:+0100
TZOFFSETTO:+0200
TZNAME:CEST
DTSTART:20230326T010000
END:DAYLIGHT
BEGIN:STANDARD
TZOFFSETFROM:+0200
TZOFFSETTO:+0100
TZNAME:CET
DTSTART:20231029T010000
END:STANDARD
BEGIN:DAYLIGHT
TZOFFSETFROM:+0100
TZOFFSETTO:+0200
TZNAME:CEST
DTSTART:20240331T010000
END:DAYLIGHT
BEGIN:STANDARD
TZOFFSETFROM:+0200
TZOFFSETTO:+0100
TZNAME:CET
DTSTART:20241027T010000
END:STANDARD
BEGIN:DAYLIGHT
TZOFFSETFROM:+0100
TZOFFSETTO:+0200
TZNAME:CEST
DTSTART:20250330T010000
END:DAYLIGHT
BEGIN:STANDARD
TZOFFSETFROM:+0200
TZOFFSETTO:+0100
TZNAME:CET
DTSTART:20251026T010000
END:STANDARD
BEGIN:DAYLIGHT
TZOFFSETFROM:+0100
TZOFFSETTO:+0200
TZNAME:CEST
DTSTART:20260329T010000
END:DAYLIGHT
BEGIN:STANDARD
TZOFFSETFROM:+0200
TZOFFSETTO:+0100
TZNAME:CET
DTSTART:20261025T010000
END:STANDARD
END:VTIMEZONE
BEGIN:VEVENT
DTSTART;TZID=Europe/Rome:20241119T080000
DTEND;TZID=Europe/Rome:20250119T170000
DTSTAMP:20260420T105115
CREATED:20241215T153427Z
LAST-MODIFIED:20241215T153627Z
UID:21642-1732003200-1737306000@coopdelante.it
SUMMARY:ARTEMISIA GENTILESCHI. UN GRANDE RITORNO A NAPOLI DOPO 400 ANNI
DESCRIPTION:Per la prima volta\, dopo circa 400 anni\, la Maddalena – capolavoro a firma di Artemisia Gentileschi – torna visibile a Napoli\, città in cui fu dipinta tra il 1630 e il 1635\, per un’esposizione unica all’interno dei meravigliosi spazi del Complesso Monumentale di Santa Chiara. \nConservata gelosamente per secoli in collezioni private\, negli ultimi cento anni la Maddalena si trovava nella prestigiosa collezione Sursock\, a Beirut\, dove fu gravemente danneggiata nella nota esplosione del 4 agosto 2020. \nSapientemente restaurata grazie all’intervento di Arthemisia\, l’opera è tornata oggi agli antichi splendori\, mostrando tutti i caratteri di stile e di narrazione visiva propri del lungo periodo trascorso da Artemisia a Napoli dove visse dal 1630 fino alla morte nel 1654.
URL:https://coopdelante.it/evento/artemisia-gentileschi-un-grande-ritorno-a-napoli-dopo-400-anni/
LOCATION:Complesso Monumentale di Santa Chiara\, Via Santa Chiara 49/c\, napoli\, Italy
CATEGORIES:Esposizione
ATTACH;FMTTYPE=image/jpeg:https://coopdelante.it/wp-content/uploads/2024/12/151103-HD_Maddalena.jpg
END:VEVENT
BEGIN:VEVENT
DTSTART;TZID=Europe/Rome:20241123T093000
DTEND;TZID=Europe/Rome:20250327T193000
DTSTAMP:20260420T105115
CREATED:20241215T151101Z
LAST-MODIFIED:20241216T131046Z
UID:21630-1732354200-1743103800@coopdelante.it
SUMMARY:IMPRESSIONISTI e la PARIGI fin de siècle
DESCRIPTION:Arriva a Napoli un insieme organico di opere che intende documentare l’irrompere della rivoluzione impressionista a Parigi\, indagando un arco temporale che va dal 1850 al 1915.\nLa mostra\, si terrà presso la Basilica di Santa Maria Maggiore alla Pietrasanta\, Lapis Museum\, dal 23 novembre 2024 al 27 aprile 2025\, per quantità di opere e per artisti presenti\, è un’occasione unica per entrare nel cuore di un movimento che ha scardinato le convenzioni artistiche e sociali del mondo a venire. I prestiti\, provenienti da collezioni private\, mettono in luce un substrato tutt’altro che popolare\, di preziosi manufatti che non vengono quasi mai donati al pubblico.\nIl progetto espositivo\, vuole evidenziare gli importanti cambiamenti della società dell’epoca con l’avvento della grande industrializzazione\, la nascita della fotografia\, del cinema\, dell’elettricità\, del telefono e dei primi voli aerei\, il tutto esaltato e proposto nelle celebri esposizioni internazionali parigine. Novità\, che hanno ovviamente contribuito a cambiare la società e di conseguenza\, anche il mondo dell’arte.\nOltre ai maestri di loro riferimento quali David\, Guericault\, Courbet si sviluppa a partire dagli artisti aderenti al movimento dell’Ecole de Barbizon che furono i germi ispiratori dei giovani Impressionisti\, per passare poi ai partecipanti alle otto mostre ufficiali impressioniste a partire da quella storica del 1874 realizzata nello studio del fotografo Nadar che rappresentò l’ingresso ufficiale del movimento nel mondo dell’arte. \nHanno trovato\, quindi posto nella mostra\, le opere dei grandi protagonisti quali Monet\, Degas\, Manet\, Renoir\, Cezanne\, Gauguin\, Pissarro e altri\, accanto ai grandi comprimari come Bracquemond\, Guillaumin\, Forain\, Desboutin\, Lepic e tutti gli altri artisti che con loro hanno condiviso l’avventura di un nuovo modo di fare arte. \nLa presenza di alcune figure del post Impressionismo\, documenta l’influenza che il movimento ha avuto nel mondo artistico di fine Ottocento\, rimarcata dalle presenze di artisti come Toulouse Lautrec\, Permeke\, Derain\, Dufy e Vlaminck tra gli altri. \nUn particolare ed inedito percorso\, su un movimento e sugli artisti che hanno contribuito a creare una tra le più straordinarie rivoluzioni artistiche della storia dell’arte. Un movimento che ha aperto la strada alla libertà creatrice per gli artisti di tutto il mondo.
URL:https://coopdelante.it/evento/impressionisti-e-la-parigi-fin-de-siecle/
LOCATION:Basilica Pietrasanta – Lapis Museum\, Basilica di Santa Maria Maggiore alla Pietrasanta\, Napoli\, 80138
CATEGORIES:Esposizione
ATTACH;FMTTYPE=image/jpeg:https://coopdelante.it/wp-content/uploads/2024/12/impressionisti-napoli-biglietti.jpg
END:VEVENT
BEGIN:VEVENT
DTSTART;TZID=Europe/Rome:20241130T080000
DTEND;TZID=Europe/Rome:20250106T170000
DTSTAMP:20260420T105115
CREATED:20241215T161618Z
LAST-MODIFIED:20241215T162343Z
UID:21660-1732953600-1736182800@coopdelante.it
SUMMARY:I Mercatini di Natale tornano al Museo Nazionale Ferroviario di Pietrarsa: musica\, gastronomia e spettacoli per tutti
DESCRIPTION:Napoli ritorna la gioia del Natale in un luogo unico e spettacolare con una serie di eventi eccezionali a cui non poter mancare: attività ludico-didattiche\, visite alla casa di Babbo Natale\, spettacoli\, cabaret\, rappresentazioni teatrali\, concerti live e artisti itineranti. \n \nIl Museo Nazionale Ferroviario di Pietrarsa riapre le porte alla sesta edizione dei Mercatini di Natale Napoli-Portici\, in programma dal 30 Novembre al 6 Gennaio 2025. Il tema dell’evento\, che negli ultimi quattro anni ha richiamato oltre 350 mila visitatori\, sarà un omaggio al libro “Il meraviglioso mago di Oz”\, un celebre romanzo per ragazzi di L. Frank Baum\, originariamente illustrato da William Wallace Denslow e pubblicato per la prima volta da George M. Hill Company a Chicago il 17 maggio 1900
URL:https://coopdelante.it/evento/i-mercatini-di-natale-tornano-al-museo-nazionale-ferroviario-di-pietrarsa-musica-gastronomia-e-spettacoli-per-tutti/
LOCATION:Museo Nazionale Ferroviario di Pietrarsa\, Via Pietrarsa\, Portici - Napoli
CATEGORIES:Enogastronomia,Esposizione,Tour Guidati
ATTACH;FMTTYPE=image/jpeg:https://coopdelante.it/wp-content/uploads/2024/12/mercatini-natale.jpg
END:VEVENT
BEGIN:VEVENT
DTSTART;TZID=Europe/Rome:20241130T103000
DTEND;TZID=Europe/Rome:20241130T233000
DTSTAMP:20260420T105115
CREATED:20241106T183723Z
LAST-MODIFIED:20241215T160422Z
UID:21605-1732962600-1733009400@coopdelante.it
SUMMARY:Maschio Angioino - 2° Rassegna "Mauro Musei"
DESCRIPTION:La cultura Legittimista Meridionale nella Storia e nelle Arti\n\n\n\n\n\n\n\n\n\nLa Rassegna quest’anno è finalizzata ad approfondire il concetto giuridico di \n\n\n\n\n“Legittimismo” ed a rievocare la figura di \n\n\n\n\n\nCharles-Maurice de Talleyrand-Périgord\, uomo politico francese che ha dominato la scena politica europea di fine settecento e \ndella prima metà dell’ottocento e che può considerarsi colui il quale ha introdotto il termine e soprattutto il concetto di legittimismo. In un’epoca in cui la definizione dei confini degli stati si decideva sulla base di rapporti di forza\, con lo strumento della guerra\, Talleyrand riuscì a spostare i termini del confronto politico sulle questioni di legittimità dei singoli stati\, finalizzando gli accordi alla costruzione di una pace duratura\, interpretata\, forse per la prima volta in Europa\, come un interesse comune da perseguire da parte di tutti i governi europei. \nIl principio di “legittimismo” ispirerà poi in Italia nel 1860 il movimento politico- culturale dei legittimisti meridionali\, cui appartenne Mauro Musci\, in occasione dell’azione di casa Savoia che porterà all’Unità d’Italia. \nQuest’anno ricorre il 270° anniversario della nascita di Charles-Maurice de Talleyrand-Périgord (Parigi\, 2/2/1754 – 17/5/1838)\, che nel corso della sua lunga ed intensa carriera politica è stato anche principe di Benevento dal 1806 al 1814. \nAl primo appuntamento previsto a Benevento il 24 settembre porteranno i loro saluti il Sindaco On Clemente Mastella\, l’Assessore regionale Felice Casucci\, il Rettore di UniSannio Gerardo Canfora\, Il Responsabile Scientifico del Museo del Sannio Marcello Rotili\, vi sarà la presenza di Lise Moutoumalaya Console generale di Francia a Napoli e del Professore Luigi Mascilli Migliorini che terrà una relazione su Carlo Maurizio di Talleyrand-Perigord\, Principe di Benevento. \n\n\n\n\n\n\n\n\n\n 
URL:https://coopdelante.it/evento/2-rassegna-mauro-musei/
LOCATION:Maschi Angioino (NA) – Società Napoletana di Storia Patria\, Maschio Angioino\, Napoli\, Italia
CATEGORIES:Presentazione Libri,Seminari Tematici
ATTACH;FMTTYPE=image/jpeg:https://coopdelante.it/wp-content/uploads/2024/11/WhatsApp-Image-2024-10-31-at-19.44.25.jpeg
END:VEVENT
END:VCALENDAR