BEGIN:VCALENDAR
VERSION:2.0
PRODID:-//Delante - ECPv6.15.14//NONSGML v1.0//EN
CALSCALE:GREGORIAN
METHOD:PUBLISH
X-ORIGINAL-URL:https://coopdelante.it
X-WR-CALDESC:Eventi per Delante
REFRESH-INTERVAL;VALUE=DURATION:PT1H
X-Robots-Tag:noindex
X-PUBLISHED-TTL:PT1H
BEGIN:VTIMEZONE
TZID:Europe/Rome
BEGIN:DAYLIGHT
TZOFFSETFROM:+0100
TZOFFSETTO:+0200
TZNAME:CEST
DTSTART:20230326T010000
END:DAYLIGHT
BEGIN:STANDARD
TZOFFSETFROM:+0200
TZOFFSETTO:+0100
TZNAME:CET
DTSTART:20231029T010000
END:STANDARD
BEGIN:DAYLIGHT
TZOFFSETFROM:+0100
TZOFFSETTO:+0200
TZNAME:CEST
DTSTART:20240331T010000
END:DAYLIGHT
BEGIN:STANDARD
TZOFFSETFROM:+0200
TZOFFSETTO:+0100
TZNAME:CET
DTSTART:20241027T010000
END:STANDARD
BEGIN:DAYLIGHT
TZOFFSETFROM:+0100
TZOFFSETTO:+0200
TZNAME:CEST
DTSTART:20250330T010000
END:DAYLIGHT
BEGIN:STANDARD
TZOFFSETFROM:+0200
TZOFFSETTO:+0100
TZNAME:CET
DTSTART:20251026T010000
END:STANDARD
BEGIN:DAYLIGHT
TZOFFSETFROM:+0100
TZOFFSETTO:+0200
TZNAME:CEST
DTSTART:20260329T010000
END:DAYLIGHT
BEGIN:STANDARD
TZOFFSETFROM:+0200
TZOFFSETTO:+0100
TZNAME:CET
DTSTART:20261025T010000
END:STANDARD
END:VTIMEZONE
BEGIN:VEVENT
DTSTART;TZID=Europe/Rome:20241119T080000
DTEND;TZID=Europe/Rome:20250119T170000
DTSTAMP:20260420T043959
CREATED:20241215T153427Z
LAST-MODIFIED:20241215T153627Z
UID:21642-1732003200-1737306000@coopdelante.it
SUMMARY:ARTEMISIA GENTILESCHI. UN GRANDE RITORNO A NAPOLI DOPO 400 ANNI
DESCRIPTION:Per la prima volta\, dopo circa 400 anni\, la Maddalena – capolavoro a firma di Artemisia Gentileschi – torna visibile a Napoli\, città in cui fu dipinta tra il 1630 e il 1635\, per un’esposizione unica all’interno dei meravigliosi spazi del Complesso Monumentale di Santa Chiara. \nConservata gelosamente per secoli in collezioni private\, negli ultimi cento anni la Maddalena si trovava nella prestigiosa collezione Sursock\, a Beirut\, dove fu gravemente danneggiata nella nota esplosione del 4 agosto 2020. \nSapientemente restaurata grazie all’intervento di Arthemisia\, l’opera è tornata oggi agli antichi splendori\, mostrando tutti i caratteri di stile e di narrazione visiva propri del lungo periodo trascorso da Artemisia a Napoli dove visse dal 1630 fino alla morte nel 1654.
URL:https://coopdelante.it/evento/artemisia-gentileschi-un-grande-ritorno-a-napoli-dopo-400-anni/
LOCATION:Complesso Monumentale di Santa Chiara\, Via Santa Chiara 49/c\, napoli\, Italy
CATEGORIES:Esposizione
ATTACH;FMTTYPE=image/jpeg:https://coopdelante.it/wp-content/uploads/2024/12/151103-HD_Maddalena.jpg
END:VEVENT
BEGIN:VEVENT
DTSTART;TZID=Europe/Rome:20241123T093000
DTEND;TZID=Europe/Rome:20250327T193000
DTSTAMP:20260420T043959
CREATED:20241215T151101Z
LAST-MODIFIED:20241216T131046Z
UID:21630-1732354200-1743103800@coopdelante.it
SUMMARY:IMPRESSIONISTI e la PARIGI fin de siècle
DESCRIPTION:Arriva a Napoli un insieme organico di opere che intende documentare l’irrompere della rivoluzione impressionista a Parigi\, indagando un arco temporale che va dal 1850 al 1915.\nLa mostra\, si terrà presso la Basilica di Santa Maria Maggiore alla Pietrasanta\, Lapis Museum\, dal 23 novembre 2024 al 27 aprile 2025\, per quantità di opere e per artisti presenti\, è un’occasione unica per entrare nel cuore di un movimento che ha scardinato le convenzioni artistiche e sociali del mondo a venire. I prestiti\, provenienti da collezioni private\, mettono in luce un substrato tutt’altro che popolare\, di preziosi manufatti che non vengono quasi mai donati al pubblico.\nIl progetto espositivo\, vuole evidenziare gli importanti cambiamenti della società dell’epoca con l’avvento della grande industrializzazione\, la nascita della fotografia\, del cinema\, dell’elettricità\, del telefono e dei primi voli aerei\, il tutto esaltato e proposto nelle celebri esposizioni internazionali parigine. Novità\, che hanno ovviamente contribuito a cambiare la società e di conseguenza\, anche il mondo dell’arte.\nOltre ai maestri di loro riferimento quali David\, Guericault\, Courbet si sviluppa a partire dagli artisti aderenti al movimento dell’Ecole de Barbizon che furono i germi ispiratori dei giovani Impressionisti\, per passare poi ai partecipanti alle otto mostre ufficiali impressioniste a partire da quella storica del 1874 realizzata nello studio del fotografo Nadar che rappresentò l’ingresso ufficiale del movimento nel mondo dell’arte. \nHanno trovato\, quindi posto nella mostra\, le opere dei grandi protagonisti quali Monet\, Degas\, Manet\, Renoir\, Cezanne\, Gauguin\, Pissarro e altri\, accanto ai grandi comprimari come Bracquemond\, Guillaumin\, Forain\, Desboutin\, Lepic e tutti gli altri artisti che con loro hanno condiviso l’avventura di un nuovo modo di fare arte. \nLa presenza di alcune figure del post Impressionismo\, documenta l’influenza che il movimento ha avuto nel mondo artistico di fine Ottocento\, rimarcata dalle presenze di artisti come Toulouse Lautrec\, Permeke\, Derain\, Dufy e Vlaminck tra gli altri. \nUn particolare ed inedito percorso\, su un movimento e sugli artisti che hanno contribuito a creare una tra le più straordinarie rivoluzioni artistiche della storia dell’arte. Un movimento che ha aperto la strada alla libertà creatrice per gli artisti di tutto il mondo.
URL:https://coopdelante.it/evento/impressionisti-e-la-parigi-fin-de-siecle/
LOCATION:Basilica Pietrasanta – Lapis Museum\, Basilica di Santa Maria Maggiore alla Pietrasanta\, Napoli\, 80138
CATEGORIES:Esposizione
ATTACH;FMTTYPE=image/jpeg:https://coopdelante.it/wp-content/uploads/2024/12/impressionisti-napoli-biglietti.jpg
END:VEVENT
BEGIN:VEVENT
DTSTART;TZID=Europe/Rome:20241130T080000
DTEND;TZID=Europe/Rome:20250106T170000
DTSTAMP:20260420T043959
CREATED:20241215T161618Z
LAST-MODIFIED:20241215T162343Z
UID:21660-1732953600-1736182800@coopdelante.it
SUMMARY:I Mercatini di Natale tornano al Museo Nazionale Ferroviario di Pietrarsa: musica\, gastronomia e spettacoli per tutti
DESCRIPTION:Napoli ritorna la gioia del Natale in un luogo unico e spettacolare con una serie di eventi eccezionali a cui non poter mancare: attività ludico-didattiche\, visite alla casa di Babbo Natale\, spettacoli\, cabaret\, rappresentazioni teatrali\, concerti live e artisti itineranti. \n \nIl Museo Nazionale Ferroviario di Pietrarsa riapre le porte alla sesta edizione dei Mercatini di Natale Napoli-Portici\, in programma dal 30 Novembre al 6 Gennaio 2025. Il tema dell’evento\, che negli ultimi quattro anni ha richiamato oltre 350 mila visitatori\, sarà un omaggio al libro “Il meraviglioso mago di Oz”\, un celebre romanzo per ragazzi di L. Frank Baum\, originariamente illustrato da William Wallace Denslow e pubblicato per la prima volta da George M. Hill Company a Chicago il 17 maggio 1900
URL:https://coopdelante.it/evento/i-mercatini-di-natale-tornano-al-museo-nazionale-ferroviario-di-pietrarsa-musica-gastronomia-e-spettacoli-per-tutti/
LOCATION:Museo Nazionale Ferroviario di Pietrarsa\, Via Pietrarsa\, Portici - Napoli
CATEGORIES:Enogastronomia,Esposizione,Tour Guidati
ATTACH;FMTTYPE=image/jpeg:https://coopdelante.it/wp-content/uploads/2024/12/mercatini-natale.jpg
END:VEVENT
BEGIN:VEVENT
DTSTART;TZID=Europe/Rome:20241201T090000
DTEND;TZID=Europe/Rome:20250107T170000
DTSTAMP:20260420T043959
CREATED:20241215T154750Z
LAST-MODIFIED:20241215T154750Z
UID:21648-1733043600-1736269200@coopdelante.it
SUMMARY:CUTTING CLOUDS | TAGLIANDO LE NUVOLE
DESCRIPTION:Cutting Clouds | Tagliando le nuvole è un programma che include azioni legate dal comune denominatore dell’effimero e dell’impermanente. Il titolo si riferisce a Cloud Scissors\, opera concepita nei primi anni ‘60 da George Brecht. Alcuni cartoncini indicanti luoghi\, tempi e modalità sono istruzioni per un possibile happening combinato da più eventi: indicazioni aleatorie da seguire per spostare i limiti creativi attraverso il gioco e la sperimentazione. Gli strumenti lasciati in eredità da Brecht diventano lo stimolo per un esercizio immaginativo. Negli spazi liminali del museo\, interventi e opere presentano una potenzialità\, un’idea di incompletezza adottando diversi media. Cutting Clouds\, riflettendo la natura mutevole delle nuvole\, si evolve attraverso operazioni che mirano ad attivare creatività potenziali apprezzando il casuale\, l’improvvisato e l’indeterminato. \n\n\nCURATORI: Marta Ferrara e Marta Wróblewska
URL:https://coopdelante.it/evento/cutting-clouds-tagliando-le-nuvole/
LOCATION:Museo Madre\, Via Settembrini 79\, napoli
CATEGORIES:Esposizione
ATTACH;FMTTYPE=image/png:https://coopdelante.it/wp-content/uploads/2024/12/151521-cutting-clouds.png
END:VEVENT
BEGIN:VEVENT
DTSTART;TZID=Europe/Rome:20241201T093000
DTEND;TZID=Europe/Rome:20251231T170000
DTSTAMP:20260420T043959
CREATED:20241215T152635Z
LAST-MODIFIED:20241215T152858Z
UID:21636-1733045400-1767200400@coopdelante.it
SUMMARY:CHI È DEVOTO A SAN GENNARO?
DESCRIPTION:È il titolo della nuova video installazione del Tesoro di San Gennaro\, che da oggi è possibile ammirare lungo il percorso di visita del museo\, prodotta e promossa da D’Uva srl\, l’azienda che gestisce il museo del Tesoro di San Gennaro\, progettata e realizzata da Kaos Produzioni.\nInserita in modo permanente nella sala della Mitra\, la nuova iniziativa va ad arricchire il percorso consentendo al pubblico di immergersi in un racconto speciale delle diverse forme e segni della devozione popolare e delle celebrazioni dei prodigi del Santo. \nA presentare la video installazione sono intervenuti Mons. Vincenzo De Gregorio\, Abate Prelato della Cappella del Tesorodi San Gennaro\, Girolamo Carignani di Novoli\, Deputato della Real Cappella del Tesoro di San Gennaro\, Francesca Ummarino\, Direttrice del Museo del Tesoro di San Gennaro\, Ilaria D’Uva\, CEO D’Uva srl\, Stefano Gargiulo\, Kaos produzioni.
URL:https://coopdelante.it/evento/chi-e-devoto-a-san-gennaro/
LOCATION:Via Duomo 149\, Via Duomo 149\, napoli
CATEGORIES:Esposizione
ATTACH;FMTTYPE=image/jpeg:https://coopdelante.it/wp-content/uploads/2024/12/151195-chi_devoto_San_Gennaro_ph_Francesco_Squeglia_6976.jpg
END:VEVENT
BEGIN:VEVENT
DTSTART;TZID=Europe/Rome:20241213T180000
DTEND;TZID=Europe/Rome:20241213T200000
DTSTAMP:20260420T043959
CREATED:20241206T175231Z
LAST-MODIFIED:20241215T160300Z
UID:21613-1734112800-1734120000@coopdelante.it
SUMMARY:Conversazioni Presepiali
DESCRIPTION:Scopri il magico mondo del presepe napoletano!\nUn evento unico nel cuore di Napoli per immergersi nella simbologia e nelle tradizioni del presepe\, il simbolo per eccellenza del Natale partenopeo.\n🗓 Quando: 13 Dicembre 2024\, ore 18:00\n📍 Dove: Cappella del SS. Salvatore\, Polo Pietrasanta (Napoli) \n🎙 Protagonista dell’evento:\nIl professor Claudio Canzanella\, autore ed esperto di tradizioni napoletane\, ci guiderà in un viaggio tra storia\, arte e spiritualità:\n✨ Il significato dei personaggi e degli oggetti del presepe\n✨ La magia del viaggio natalizio nel presepe\n✨ Il ruolo del presepe nella cultura partenopea \n💡 Apertura dell’evento: \n\nRaffaele Iovine\, Presidente Fondazione Pietrasanta\nAntonio Aprea\, Delante Welcome Inside Art\n\n🌟 Evento inclusivo! Saranno presenti interpreti LIS per garantire accessibilità a tutti. \n🎟 Ingresso gratuito – Prenotazione consigliata.\n📲 Contattaci subito al numero 392 9812 254 per riservare il tuo posto! \n🔔 Perché partecipare?\nScopri le radici del presepe napoletano\, patrimonio della cultura natalizia\, e vivi un’esperienza che unisce arte\, tradizione e spiritualità.
URL:https://coopdelante.it/evento/conversazioni-presepiali/
LOCATION:Basilica Pietrasanta – Lapis Museum\, Basilica di Santa Maria Maggiore alla Pietrasanta\, Napoli\, 80138
CATEGORIES:Presentazione Libri,Seminari Tematici
ATTACH;FMTTYPE=image/jpeg:https://coopdelante.it/wp-content/uploads/2024/12/Versione_Social_1.jpeg
END:VEVENT
BEGIN:VEVENT
DTSTART;TZID=Europe/Rome:20241219T203000
DTEND;TZID=Europe/Rome:20241219T203000
DTSTAMP:20260420T043959
CREATED:20241215T155546Z
LAST-MODIFIED:20241215T161014Z
UID:21653-1734640200-1734640200@coopdelante.it
SUMMARY:Stelle in festa: una serata all'Osservatorio di Capodimonte tra le stelle di Natale
DESCRIPTION:Il 19 dicembre alle ore 20:30\, appuntamento con Stelle in festa. Una serata a Capodimonte tra le stelle di Natale\, l’evento speciale proposto dall’Osservatorio Astronomico di Capodimonte per festeggiare insieme i prossimi giorni di feste e celebrare la prima osservazione astronomica fatta a Capodimonte nel 1819. \nProgramma\nIntroduzione alla serata di celebrazione con il direttore dell’Osservatorio Pietro Schipani che ricorderà i 205 anni di ricerca scientifica fatta a Capodimonte\, a partire dalla prima osservazione di Carlo Brioschi che nella notte del 17 dicembre 1819 osservò la stella Alpha Cassiopeiae dalla cupola est dell’osservatorio. \nErnesto Capocci Scientific Award 2024 \nconsegna del premio per il miglior articolo scientifico nel campo dello studio dei corpi del Sistema solare ad Andrew Alberini. \nIl premio\, giunto alla seconda edizione\, è rivolto a giovani ricercatori che in Italia si distinguono con studi di punta nel campo dei corpi del Sistema solare ed è dedicato all’astronomo napoletano Ernesto Capocci che nell’Ottocento è stato uno scienziato di fama internazionale e che allo studio del Sistema solare ha rivolto gran parte delle sue energie scientifiche e divulgative\, importanti furono i suoi studi sulle comete e sulla natura della fascia principale degli asteroidi. \nLa giuria dell’edizione 2024 del premio\, composta dall’astronoma Sonia Fornasier\, professoressa dell’Univeristà LESIA di Parigi\, dal professor Ivano Bertini dell’Università di Napoli Parthenope e dal dottor Fabio Cozzolino\, ricercatore dell’Osservatorio Astronomico di Capodimonte\, ha deciso di premiare la qualità del lavoro di Alberini\, un giovane astronomo fiorentino che sta svolgendo il suo Dottorato presso il Dipartimento di Fisica e Astronomia dell’Università di Firenze con un progetto di ricerca condotto all’Osservatorio Astrofisico di Arcetri con la supervisione degli astronomi John Robert Brucato e Teresa Fornaro. L’articolo è stato scelto dalla giuria perché ritenuto di alta rilevanza negli studi in esobiologia\, i cui risultati potranno avere un significativo impatto futuro\, in special modo per la missione della Nasa: Mars Sample Return. Per la giuria\, inoltre\, la ricerca di Alberini fornisce input fondamentali\, attraverso attività di laboratorio\, per la validazione di misure condotte in situ dal rover Perseverance nell’ambito della missione Mars 2020. \nLa mattina del 19 dicembre Andrew Alberini illustrerà il suo lavoro di ricerca agli astronomi di Capimonte con un seminario specialistico dal titolo: The role of sulfates in the organic preservation on Mars: UV irradiation of carboxylic acids and PAHs in hydrated magnesium sulfate. \nAlla Cerimonia di premiazione parteciperanno anche gli eredi di Ernesto Capocci che hanno sostenuto l’istituzione del premio. \nL’Universo corale: le molte voci delle stelle\nConversazione scientifica di Enrico Cascone \nSeguiranno la visita al Salone delle Colonne e le osservazioni del cielo di Napoli con gli astronomi di Capodimonte e Unione Astrofili Napoletani \n 
URL:https://coopdelante.it/evento/stelle-in-festa-una-serata-allosservatorio-di-capodimonte-tra-le-stelle-di-natale/
LOCATION:Osservatorio Astronomico di Capodimente\, Salita Moiariello\, 16\, napoli
CATEGORIES:Attività Laboratoriali,Tour Guidati
ATTACH;FMTTYPE=image/jpeg:https://coopdelante.it/wp-content/uploads/2024/12/stelle-festa-20241.jpg
END:VEVENT
BEGIN:VEVENT
DTSTART;TZID=Europe/Rome:20241231T203000
DTEND;TZID=Europe/Rome:20250101T020000
DTSTAMP:20260420T043959
CREATED:20241230T183815Z
LAST-MODIFIED:20241230T183933Z
UID:21686-1735677000-1735696800@coopdelante.it
SUMMARY:CAPODANNO 2025 : IL CONCERTONE E IL TRIBUTO A PINO DANIELE
DESCRIPTION:Piazza del Plebiscito\, il cuore pulsante della città\, sarà il palcoscenico ideale per celebrare l’arrivo del nuovo anno. \nDalle 20.30\, cinque ore di musica coinvolgeranno tutti in un unico grande abbraccio. \nLoredana Bertè e Sal Da Vinci ci faranno vivere un Capodanno indimenticabile\, rendendo omaggio\, nel decennale della sua scomparsa\, a Pino Daniele con una versione emozionante di “Napul’è”. \nhttps://coopdelante.it/wp-content/uploads/2024/12/Auguri_AnnoNuovo.mp4
URL:https://coopdelante.it/evento/capodanno-2025-il-concertone-e-il-tributo-a-pino-daniele/
LOCATION:Piazza Plebiscito\, Na\, 80100
CATEGORIES:Current Collection
ATTACH;FMTTYPE=image/webp:https://coopdelante.it/wp-content/uploads/2024/12/piazza-del-plebiscito-rosa.jpg.webp
END:VEVENT
END:VCALENDAR