BEGIN:VCALENDAR
VERSION:2.0
PRODID:-//Delante - ECPv6.15.14//NONSGML v1.0//EN
CALSCALE:GREGORIAN
METHOD:PUBLISH
X-ORIGINAL-URL:https://coopdelante.it
X-WR-CALDESC:Eventi per Delante
REFRESH-INTERVAL;VALUE=DURATION:PT1H
X-Robots-Tag:noindex
X-PUBLISHED-TTL:PT1H
BEGIN:VTIMEZONE
TZID:Europe/Rome
BEGIN:DAYLIGHT
TZOFFSETFROM:+0100
TZOFFSETTO:+0200
TZNAME:CEST
DTSTART:20240331T010000
END:DAYLIGHT
BEGIN:STANDARD
TZOFFSETFROM:+0200
TZOFFSETTO:+0100
TZNAME:CET
DTSTART:20241027T010000
END:STANDARD
BEGIN:DAYLIGHT
TZOFFSETFROM:+0100
TZOFFSETTO:+0200
TZNAME:CEST
DTSTART:20250330T010000
END:DAYLIGHT
BEGIN:STANDARD
TZOFFSETFROM:+0200
TZOFFSETTO:+0100
TZNAME:CET
DTSTART:20251026T010000
END:STANDARD
BEGIN:DAYLIGHT
TZOFFSETFROM:+0100
TZOFFSETTO:+0200
TZNAME:CEST
DTSTART:20260329T010000
END:DAYLIGHT
BEGIN:STANDARD
TZOFFSETFROM:+0200
TZOFFSETTO:+0100
TZNAME:CET
DTSTART:20261025T010000
END:STANDARD
END:VTIMEZONE
BEGIN:VEVENT
DTSTART;TZID=Europe/Rome:20251219T203000
DTEND;TZID=Europe/Rome:20251219T203000
DTSTAMP:20260421T174613
CREATED:20251216T093015Z
LAST-MODIFIED:20251216T093015Z
UID:22097-1766176200-1766176200@coopdelante.it
SUMMARY:DiVinoJazzFestival
DESCRIPTION:Arriva al 𝐃𝐢𝐕𝐢𝐧𝐨 𝐉𝐚𝐳𝐳 𝐅𝐞𝐬𝐭𝐢𝐯𝐚𝐥 una delle artiste più promettenti del jazz internazionale: Eleonora Strino – guitarist \nLa talentuosa chitarrista napoletana guida il trio che include 𝒁𝒆𝒏𝒐 𝒅𝒆 𝑹𝒐𝒔𝒔𝒊 alla batteria e 𝑮𝒊𝒖𝒍𝒊𝒐 𝑪𝒐𝒓𝒊𝒏𝒊 al contrabbasso\, con una ritmica eclettica e raffinata\, spaziando tra classici jazz\, brani be bop\, riarrangiamenti e composizione originali di ispirazione partenopea. \nSpecial guest 𝑫𝒂𝒏𝒊𝒆𝒍𝒆 𝑺𝒆𝒑𝒆 al sassofono e al flauto
URL:https://coopdelante.it/evento/divinojazzfestival/
LOCATION:𝐀𝐮𝐝𝐢𝐭𝐨𝐫𝐢𝐮𝐦 𝐒𝐜𝐮𝐨𝐥𝐚 𝐈𝐫𝐞𝐧𝐞 𝐃𝐞 𝐑𝐢𝐬𝐢\, Boscotrecase\, Italia\, Italy
ATTACH;FMTTYPE=image/png:https://coopdelante.it/wp-content/uploads/2025/12/festival-1.png
END:VEVENT
BEGIN:VEVENT
DTSTART;TZID=Europe/Rome:20251220T203000
DTEND;TZID=Europe/Rome:20251220T203000
DTSTAMP:20260421T174613
CREATED:20251216T093739Z
LAST-MODIFIED:20251216T093739Z
UID:22102-1766262600-1766262600@coopdelante.it
SUMMARY:Di Vino Jazz Festival
DESCRIPTION:Uno dei più grandi pianisti jazz al mondo arriva al 𝐃𝐢𝐕𝐢𝐧𝐨 𝐉𝐚𝐳𝐳 𝐅𝐞𝐬𝐭𝐢𝐯𝐚𝐥 in trio per raccontare il Mediterraneo \nDopo il successo di 𝑹𝒂𝒄𝒄𝒐𝒏𝒕𝒊 𝑴𝒆𝒅𝒊𝒕𝒆𝒓𝒓𝒂𝒏𝒆𝒊\, 𝑬𝒏𝒓𝒊𝒄𝒐 𝑷𝒊𝒆𝒓𝒂𝒏𝒖𝒏𝒛𝒊 torna a incantare il pubblico con la magia di un mondo musicale fatto di atmosfera cameristica\, improvvisazione e temi dallo spiccato carattere melodico-popolare-mediterraneo \nInsieme a lui\, sul palco 𝑮𝒂𝒃𝒓𝒊𝒆𝒍𝒆 𝑴𝒊𝒓𝒂𝒃𝒂𝒔𝒔𝒊 al clarinetto e 𝑳𝒖𝒄𝒂 𝑩𝒖𝒍𝒈𝒂𝒓𝒆𝒍𝒍𝒊 al contrabbasso
URL:https://coopdelante.it/evento/di-vino-jazz-festival-2/
LOCATION:𝐁𝐚𝐬𝐢𝐥𝐢𝐜𝐚 𝐌𝐚𝐝𝐨𝐧𝐧𝐚 𝐝𝐞𝐥𝐥𝐚 𝐍𝐞𝐯𝐞\, Piazza Giovanni XXIII\, Torre Annunziata (NA)\, Italia\, Italy
ATTACH;FMTTYPE=image/png:https://coopdelante.it/wp-content/uploads/2025/12/festival-2.png
END:VEVENT
BEGIN:VEVENT
DTSTART;TZID=Europe/Rome:20251221T203000
DTEND;TZID=Europe/Rome:20251221T203000
DTSTAMP:20260421T174613
CREATED:20251216T094254Z
LAST-MODIFIED:20251216T094254Z
UID:22108-1766349000-1766349000@coopdelante.it
SUMMARY:Di Vino Jazz Festival
DESCRIPTION:L’omaggio ad un grande e indimenticato cantautore italiano\, in versione piano solo e con la raffinatissima interpretazione di 𝐃𝐚𝐧𝐢𝐥𝐨 𝐑𝐞𝐚 \nSul palco del Teatro Minerva a Boscoreale la musica di 𝑭𝒂𝒃𝒓𝒊𝒛𝒊𝒐 𝑫𝒆 𝑨𝒏𝒅𝒓𝒆̀ diventa suono vivo e racconto collettivo\, tra le mani di uno dei pianisti jazz più straordinari e celebrati nel panorama internazionale
URL:https://coopdelante.it/evento/di-vino-jazz-festival-3/
LOCATION:𝐓𝐞𝐚𝐭𝐫𝐨 𝐌𝐢𝐧𝐞𝐫𝐯𝐚\, Via Tenente Angelo Cirillo 53\, Boscoreale (NA)\, Italia\, Italy
ATTACH;FMTTYPE=image/png:https://coopdelante.it/wp-content/uploads/2025/12/festival-3.png
END:VEVENT
END:VCALENDAR